BEGIN:VCALENDAR
VERSION:2.0
PRODID:-//ChamberMaster//Event Calendar 2.0//EN
METHOD:PUBLISH
X-PUBLISHED-TTL:P3D
REFRESH-INTERVAL:P3D
CALSCALE:GREGORIAN
BEGIN:VEVENT
DTSTART:20221129T080000Z
DTEND:20221129T100000Z
X-MICROSOFT-CDO-ALLDAYEVENT:FALSE
SUMMARY:The Business of Smart Cities: An Exclusive Tour of the Central Utility Plant at One Bangkok
DESCRIPTION:The Business Economics Committee invites you to learn how smart cities are poised to transform Southeast Asia. Please join us for a presentation followed by an exclusive tour of the Central Utility Plant (CUP) at One Bangkok\, the city's iconic mixed-use development and first smart city. Led by Anthony Arundell\, Head of Smart Cities for Frasers Property\, AMCHAM members will have an exclusive and interactive experience with one of the most exciting developments in Southeast Asia.\n\n\n\nPlease note that the group size for this event is limited.\n\n\n\nAbout the Speaker:\n\n \n\nAnthony Arundell is a key promulgator of Smart City and IOT (Internet of Things) Platforms to benefit communities and the health and wellbeing of society through digitalization. He has more than 25 years experience in Technology Consulting and is currently the Director for Sustainability\, Smart City\, Central Utility Plant\, and Estate Management for One Bangkok.
X-ALT-DESC;FMTTYPE=text/html:The Business Economics Committee invites you to learn how smart cities are poised to transform Southeast Asia. Please join us for a presentation followed by an exclusive tour of the Central Utility Plant (CUP) at One Bangkok\, the city&#39\;s iconic mixed-use development and first smart city. Led by Anthony Arundell\, Head of Smart Cities for Frasers Property\, AMCHAM members will have an exclusive and interactive experience with one of the most exciting developments in Southeast Asia.<br />\n<br />\nPlease note that the group size for this event is limited.<br />\n<br />\n<strong>About the Speaker:</strong><br />\n&nbsp\;<br />\n<strong>Anthony Arundell</strong> is a key promulgator of Smart City and IOT (Internet of Things) Platforms to benefit communities and the health and wellbeing of society through digitalization. He has more than 25 years experience in Technology Consulting and is currently the Director for Sustainability\, Smart City\, Central Utility Plant\, and Estate Management for One Bangkok.
LOCATION:The Prelude One Bangkok (Click here to see map for directions)
UID:e.3314.2320
SEQUENCE:3
DTSTAMP:20260420T142619Z
URL:http://www.connect.amchamthailand.com/events/details/the-business-of-smart-cities-an-exclusive-tour-of-the-central-utility-plant-at-one-bangkok-2320
END:VEVENT

END:VCALENDAR
