BEGIN:VCALENDAR
VERSION:2.0
PRODID:-//ChamberMaster//Event Calendar 2.0//EN
METHOD:PUBLISH
X-PUBLISHED-TTL:P3D
REFRESH-INTERVAL:P3D
CALSCALE:GREGORIAN
BEGIN:VEVENT
DTSTART:20230527T110000Z
DTEND:20230527T160000Z
X-MICROSOFT-CDO-ALLDAYEVENT:FALSE
SUMMARY:The Governors' Gala
DESCRIPTION:Step right up\, ladies and gentlemen! Join us for an evening of spectacle and wonder at Circus Circus\, our 2023 AMCHAM Governors' Gala.\n\n\n\nThe food will delight\, cocktails will flow\, and our live band will make your feet tap to your favorite tunes. Our three-ring extravaganza will also feature a charity raffle\, silent auction and games with hundreds of prizes from luxury vacation stays to high end electronics to fine jewelry.\n\n\n\nProceeds support the American Chamber of Commerce in Thailand Foundation (ATF)\, whose scholarship program is currently sending 85 high-achieving Thai students through university and vocational college.\n\n\n\nBook now to reserve your space!  \n\n\n\nDress code: Black tie or theme (Circus\, Circus) \n\n \n\n* * * * *\n\nDrink\, Don't Drive -  Accommodation Deal\n\nStay overnight at the Shangri-La Bangkok hotel at special rates for our members:\n\n\n	\n		\n			\n			Deluxe Room Single/Double\n			\n			\n			 4\,200++ baht/room/night\n			\n		\n		\n			\n			Deluxe River View Room  Single/Double \n			\n			\n			4\,500++ baht/room/night\n			\n		\n	\n\n\n\n\n- Subject to 10% service charge and applicable government tax on room rate and service charge\, currently a total of 17.7%\n\n- Daily breakfast included in the above room rates at venue designated by the hotel\n\n- Inclusive of complimentary in-room wired Internet and Wi-Fi access\n\n\n\nFor reservations please download the reservation form here
X-ALT-DESC;FMTTYPE=text/html:<p font-size:="" style="color: rgb(51\, 51\, 51)\; font-family: sans-serif\, Arial\, Verdana\, " trebuchet=""><span background-color:="" font-size:="" style="color: rgb(51\, 51\, 51)\; font-family: sans-serif\, Arial\, Verdana\, " trebuchet="">Step right up\, ladies and&nbsp\;gentlemen! Join us for an evening of spectacle and wonder at Circus Circus\, our&nbsp\;2023 AMCHAM&nbsp\;Governors&#39\; Gala.</span><br />\n<br />\n<span background-color:="" font-size:="" style="color: rgb(51\, 51\, 51)\; font-family: sans-serif\, Arial\, Verdana\, " trebuchet="">The food will delight\, cocktails will flow\, and our live band will make your feet tap to your favorite tunes. Our three-ring extravaganza&nbsp\;will also feature a charity raffle\, silent auction and games with hundreds of prizes from luxury vacation stays to high end electronics&nbsp\;to fine jewelry.<br />\n<br />\nProceeds support the American Chamber of Commerce in Thailand Foundation (ATF)\, whose scholarship program is currently sending 85&nbsp\;high-achieving Thai students through university and vocational college.</span><br font-size:="" style="color: rgb(51\, 51\, 51)\; font-family: sans-serif\, Arial\, Verdana\, " trebuchet="" />\n<br font-size:="" style="color: rgb(51\, 51\, 51)\; font-family: sans-serif\, Arial\, Verdana\, " trebuchet="" />\n<span background-color:="" font-size:="" style="color: rgb(51\, 51\, 51)\; font-family: sans-serif\, Arial\, Verdana\, " trebuchet="">Book now to reserve your space!&nbsp\;&nbsp\;</span><br font-size:="" style="color: rgb(51\, 51\, 51)\; font-family: sans-serif\, Arial\, Verdana\, " trebuchet="" />\n<br font-size:="" style="color: rgb(51\, 51\, 51)\; font-family: sans-serif\, Arial\, Verdana\, " trebuchet="" />\n<span background-color:="" font-size:="" style="color: rgb(51\, 51\, 51)\; font-family: sans-serif\, Arial\, Verdana\, " trebuchet="">Dress code: Black tie or theme (Circus\, Circus)&nbsp\;</span></p>\n\n<p font-size:="" style="color: rgb(51\, 51\, 51)\; font-family: sans-serif\, Arial\, Verdana\, " trebuchet="">&nbsp\;</p>\n\n<p font-size:="" style="color: rgb(51\, 51\, 51)\; text-align: center\;" trebuchet="">* * * * *</p>\n\n<p font-size:="" style="font-family: sans-serif\, Arial\, Verdana\, " trebuchet=""><strong style="color: rgb(51\, 51\, 51)\;">Drink\, Don&#39\;t Drive -&nbsp\; Accommodation Deal</strong><br />\n<em>Stay overnight at the Shangri-La Bangkok hotel at special rates for our members:</em></p>\n\n<table border="0" cellpadding="1" cellspacing="1" style="width:500px\;">\n	<tbody>\n		<tr>\n			<td>\n			<div style="margin-left: 40px\;">Deluxe&nbsp\;Room Single/Double</div>\n			</td>\n			<td>\n			<div style="margin-left: 40px\;">&nbsp\;4\,200++ baht/room/night</div>\n			</td>\n		</tr>\n		<tr>\n			<td>\n			<div style="margin-left: 40px\;">Deluxe River View Room&nbsp\;&nbsp\;Single/Double&nbsp\;</div>\n			</td>\n			<td>\n			<div style="margin-left: 40px\;">4\,500++ baht/room/night</div>\n			</td>\n		</tr>\n	</tbody>\n</table>\n\n<p font-size:="" style="font-family: sans-serif\, Arial\, Verdana\, " trebuchet=""><br />\n<em>- Subject to 10% service charge and applicable government tax on room rate and service charge\, currently a total of 17.7%<br />\n- Daily breakfast included in the above room rates at venue designated by the hotel<br />\n- Inclusive of complimentary in-room wired Internet and Wi-Fi access</em></p>\n\n<p font-size:="" style="font-family: sans-serif\, Arial\, Verdana\, " trebuchet=""><br />\nFor reservations please download the reservation form <a href="https://www.amchamthailand.com/wp-content/uploads/2023/03/Hotel-Reservation-Form-Special-Rate-for-AMCHAM.pdf">here</a></p>\n
LOCATION:Shangri-La Bangkok Hotel Grand Ballroom
UID:e.3314.2523
SEQUENCE:3
DTSTAMP:20260420T033554Z
URL:http://www.connect.amchamthailand.com/events/details/the-governors-gala-2523
END:VEVENT

END:VCALENDAR
