BEGIN:VCALENDAR
VERSION:2.0
PRODID:-//ChamberMaster//Event Calendar 2.0//EN
METHOD:PUBLISH
X-PUBLISHED-TTL:P3D
REFRESH-INTERVAL:P3D
CALSCALE:GREGORIAN
BEGIN:VEVENT
DTSTART:20230912T000000Z
DTEND:20230912T020000Z
X-MICROSOFT-CDO-ALLDAYEVENT:FALSE
SUMMARY:Third APEC Senior Officials' Meeting (SOM3) and Third APEC Business Advisory Council (ABAC III) Meeting Debrief
DESCRIPTION:The U.S. APEC Business Coalition invites you to join senior U.S. government officials and members of the business community for a briefing on outcomes of the Third APEC Senior Officials' Meeting\, held in Seattle\, U.S. and the Third APEC Business Advisory Council Meeting held in Cebu City\, Philippines.\n\n\n\nThe debrief will include remarks from Ambassador Matt Murray\, U.S. Senior Official for APEC\, U.S. Department of State\, Chris Wilson\, Assistant U.S. Trade Representative for Japan\, Korea\, and APEC\, Office of the United States Trade Representative\, and Monica Hardy Whaley\, President\, NCAPEC. There will also be an opportunity for Q&A at the end of the discussion.\n\n\n\nREGISTER HERE\n\nPlease be advised that this function is a partner event with an external organizer. The registration link will send you away from the AMCHAM website to the website of the organizer.  Please be advised that this event organizer may have different data collection/privacy and event cancellation policies than AMCHAM Thailand.
X-ALT-DESC;FMTTYPE=text/html:<p>The U.S. APEC Business Coalition invites you to join senior U.S. government officials and members of the business community for a briefing on outcomes of the Third APEC Senior Officials&#39\; Meeting\, held in Seattle\, U.S. and the Third APEC Business Advisory Council Meeting held in Cebu City\, Philippines.<br />\n<br />\nThe debrief will include remarks from Ambassador <strong>Matt Murray</strong>\, U.S. Senior Official for APEC\, U.S. Department of State\, <strong>Chris Wilson</strong>\, Assistant U.S. Trade Representative for Japan\, Korea\, and APEC\, Office of the United States Trade Representative\, and<strong> Monica Hardy Whaley</strong>\, President\, NCAPEC. There will also be an opportunity for Q&amp\;A at the end of the discussion.<br />\n<br />\n<a href="https://us02web.zoom.us/webinar/register/WN_XcAu9vZYTpi4H0P83gb_2Q#/registration"><span style="font-size: 16px\;"><span style="font-family: arial\;"><strong><span style="color: rgb(0\, 0\, 128)\;">REGISTER HERE</span></strong></span></span></a></p>\n\n<p>Please be advised that this function is a partner event with an external organizer. The registration link will send you away from the AMCHAM website to the website of the organizer.&#8203\; Please be advised that this event organizer may have different data collection/privacy and event cancellation policies than AMCHAM Thailand.</p>\n
LOCATION:Online Webinar
UID:e.3314.2620
SEQUENCE:3
DTSTAMP:20260419T183459Z
URL:http://www.connect.amchamthailand.com/events/details/third-apec-senior-officials-meeting-som3-and-third-apec-business-advisory-council-abac-iii-meeting-debrief-2620
END:VEVENT

END:VCALENDAR
