BEGIN:VCALENDAR
VERSION:2.0
PRODID:-//ChamberMaster//Event Calendar 2.0//EN
METHOD:PUBLISH
X-PUBLISHED-TTL:P3D
REFRESH-INTERVAL:P3D
CALSCALE:GREGORIAN
BEGIN:VEVENT
DTSTART:20200319T070000Z
DTEND:20200319T090000Z
X-MICROSOFT-CDO-ALLDAYEVENT:FALSE
SUMMARY:Trade & Investment (Postponed): From Strong Baht to COVID-19\, what's the Outlook for the Thai Economy in 2020
DESCRIPTION:This event has been postponed as a precautionary measure to support public health efforts to minimize the spread of COVID-19. When the rescheduled date is confirmed\, AMCHAM will update that information here.\n\n\n\nThe Thai baht was among the region's top-performing currency against the USD in 2019 as a result of the Kingdom's significant current account surplus\, tourism revenue inflows and near-record foreign reserves. The Thai economy's growth forecast remains relatively lower than average. The beginning of the year 2020 for Thailand started with a delay in the passing of the national budget\, and the daunting impact of COVID-19 outbreak in China that is now being felt through the region and threatening the growth prospect of the volatile global economy which is already facing the brunt of the US-China trade tension.\n\n \n\nSo what all these economic headwinds mean to Thailand and what's the outlook for the Thai economy in 2020?\n\n \n\nJoin us at the Trade & Investment Committee forum to learn more from our distinguished panelists with impeccable qualifications as they share with us findings and insights into these key economic factors and implications. Let's uncover the outlook for the Thai economy in 2020 as we discuss Thailand's trade and investment dynamics. Join in the conversation on what business leaders should do to prepare for any opportunities and uncertainties.    \n\n \n\nSpeakers:\n\n\n	Dr. Kampon Adireksombat\, Ph.D.\, Head of Economic and Financial Market Research\, Economic Intelligence Center (EIC)\, Siam Commercial Bank\n	Dr. Amonthep Chawla\, Head of Research Office\, CIMB Thai Bank\n	Ms. Pimchanok Vonkorpon\, Director-General\, Trade Policy and Strategy Office (TPSO)\, Ministry of Commerce\n\n\n \n\nAgenda \n\n2:00 pm    Registration\n\n2:35 pm    Introduction\n\n2:40 pm    Presentation\n\n3:10 pm    Panel Discussion moderated by Mr. Noah Shepherd\, Director of Manufacturing\, Southeast\n\n                  Asia\, Stanley Black & Decker\n\n3:40 pm    Q&A\n\n4:00 pm    End
X-ALT-DESC;FMTTYPE=text/html:<div>\n<p><span style="box-sizing: border-box\; font-family: &quot\;open sans&quot\;\, sans-serif\; font-weight: bolder\; color: rgb(0\, 0\, 128)\; font-size: 14px\;"><em style="box-sizing: border-box\;">This event has been postponed as a precautionary measure to support public health efforts to minimize the spread of COVID-19. When the rescheduled date is confirmed\, AMCHAM will update that information here.</em></span><br />\n<br />\nThe Thai baht was among the region&#39\;s top-performing currency against the USD in 2019 as a result of the Kingdom&#39\;s significant current account surplus\, tourism revenue inflows and near-record foreign reserves.&nbsp\;The Thai economy&#39\;s growth forecast remains relatively lower than average. The beginning of the year 2020 for Thailand started with a delay in the passing of the national budget\, and the daunting impact of COVID-19 outbreak in China that is now being felt through the region and threatening the growth prospect of the volatile global economy which is already facing the brunt of the US-China trade tension.<br />\n&nbsp\;<br />\nSo what all these economic headwinds mean to Thailand and what&#39\;s the outlook for the Thai economy in 2020?<br />\n&nbsp\;<br />\nJoin us at the Trade &amp\; Investment Committee forum to learn more from our distinguished panelists with impeccable qualifications as they share with us findings and insights into these key economic factors and implications. Let&#39\;s uncover the outlook for the Thai economy in 2020 as we discuss&nbsp\;Thailand&#39\;s trade and investment dynamics. Join in the conversation on what business leaders should do to prepare for any opportunities and uncertainties.&nbsp\; &nbsp\;&nbsp\;<br />\n&nbsp\;<br />\nSpeakers:</p>\n\n<ul>\n	<li><a href="https://secure2.chambermaster.com/mic/Resources/Download/239?memId=-1&amp\;repId=60086&amp\;micVersion=4">Dr. Kampon Adireksombat</a>\, Ph.D.\, Head of Economic and Financial Market Research\,&nbsp\;Economic Intelligence Center (EIC)\,&nbsp\;Siam Commercial Bank</li>\n	<li><a href="https://secure2.chambermaster.com/mic/Resources/Download/234?memId=-1&amp\;repId=60086&amp\;micVersion=4">Dr. Amonthep Chawla</a>\, Head of Research Office\, CIMB Thai Bank</li>\n	<li><a href="https://secure2.chambermaster.com/mic/Resources/Download/235?memId=-1&amp\;repId=60086&amp\;micVersion=4">Ms. Pimchanok Vonkorpon</a>\, Director-General\, Trade Policy and Strategy Office (TPSO)\, Ministry of Commerce</li>\n</ul>\n\n<p>&nbsp\;<br />\n<strong>Agenda&nbsp\;</strong><br />\n2:00 pm&nbsp\;&nbsp\;&nbsp\;&nbsp\;Registration<br />\n2:35 pm&nbsp\;&nbsp\;&nbsp\; Introduction<br />\n2:40 pm&nbsp\;&nbsp\;&nbsp\;&nbsp\;Presentation<br />\n3:10 pm&nbsp\;&nbsp\;&nbsp\;&nbsp\;Panel Discussion moderated by Mr.&nbsp\;Noah Shepherd\,&nbsp\;Director of Manufacturing\, Southeast<br />\n&nbsp\;&nbsp\; &nbsp\; &nbsp\; &nbsp\; &nbsp\; &nbsp\; &nbsp\; &nbsp\; &nbsp\;Asia\,&nbsp\;Stanley Black &amp\; Decker<br />\n3:40 pm&nbsp\;&nbsp\;&nbsp\;&nbsp\;Q&amp\;A<br />\n4:00 pm&nbsp\;&nbsp\;&nbsp\;&nbsp\;End</p>\n</div>\n
LOCATION:
UID:e.3314.1530
SEQUENCE:3
DTSTAMP:20260423T002019Z
URL:http://www.connect.amchamthailand.com/events/details/trade-investment-postponed-from-strong-baht-to-covid-19-what-s-the-outlook-for-the-thai-economy-in-2020-1530
END:VEVENT

END:VCALENDAR
