BEGIN:VCALENDAR
VERSION:2.0
PRODID:-//ChamberMaster//Event Calendar 2.0//EN
METHOD:PUBLISH
X-PUBLISHED-TTL:P3D
REFRESH-INTERVAL:P3D
CALSCALE:GREGORIAN
BEGIN:VEVENT
DTSTART:20200325T073000Z
DTEND:20200325T080000Z
X-MICROSOFT-CDO-ALLDAYEVENT:FALSE
SUMMARY:Travel & Tourism Virtual Roundtable
DESCRIPTION:Join your fellow AMCHAM Travel & Tourism members for a frank\, off-the-record discussion of the solutions they are exploring for the industry-wide challenges in the time of COVID-19. Our member-to-member video conferences are a chance for you to connect online\, ask your questions\, and exchange best practices.\n\n \n\nQuestions explored in this session will include:\n\n\n	What steps are companies taking to preserve cash flow? What  HR strategies and approaches can you pursue?\n	Early signs of China recovery - what are they\, and what do they potentially mean for the tourism industry?\n	Maintaining brand and destination presence to stay positioned for recovery.
X-ALT-DESC;FMTTYPE=text/html:<div>Join your fellow AMCHAM Travel &amp\; Tourism members for a frank\, off-the-record discussion of the solutions they are exploring for the industry-wide challenges in the time of COVID-19. Our member-to-member video conferences are a chance for you to connect online\, ask your questions\, and exchange best practices.</div>\n\n<div>&nbsp\;</div>\n\n<div>Questions explored in this session will include:</div>\n\n<ul>\n	<li>What steps are companies taking to preserve cash flow? What&nbsp\; HR strategies and approaches can you pursue?</li>\n	<li>Early signs of China recovery - what are they\, and what do they potentially mean for the tourism industry?</li>\n	<li>Maintaining brand and destination presence to stay positioned for recovery.</li>\n</ul>\n
LOCATION:Video conference Meeting
UID:e.3314.1578
SEQUENCE:3
DTSTAMP:20260423T001755Z
URL:http://www.connect.amchamthailand.com/events/details/travel-tourism-vc-series-brand-1578
END:VEVENT

END:VCALENDAR
