BEGIN:VCALENDAR
VERSION:2.0
PRODID:-//ChamberMaster//Event Calendar 2.0//EN
METHOD:PUBLISH
X-PUBLISHED-TTL:P3D
REFRESH-INTERVAL:P3D
CALSCALE:GREGORIAN
BEGIN:VEVENT
DTSTART:20221208T110000Z
DTEND:20221208T130000Z
X-MICROSOFT-CDO-ALLDAYEVENT:FALSE
SUMMARY:Trivia Night @ Bourbon Street
DESCRIPTION:AMCHAM is bringing our popular Trivia Nights\, this time in person and hosted by the AMCHAM Young Professionals Committee.\n\n\n\nTest your trivia knowledge in four rounds of questions and surprise challenges. Team up with friends or colleagues and compete for bragging rights against fellow AMCHAM members while supporting an important cause.\n\n\n\n100% of proceeds go to the ATF scholarship program\, which currently sends 60 high-achieving Thai students through university. Our students need this support more than ever in these challenging times - let's help keep all of them in school!\n\n \n\nAMERICAN CHAMBER OF COMMERCE IN THAILAND FOUNDATION (ATF)\n\nThe ATF has sent over 3\,000 deserving Thai students from disadvantaged backgrounds through university since 1976.\n\n\n\nIn 2020 and 2021\, we were unable to hold our major fundraising events that are the financial mainstay of the foundation. We are still raising funds to support our 60 hard-working students. Here are ways that you can help:\n\n	Join Trivia Night! Each team's 1\,500 baht entry fee goes directly to the foundation.\n	Event Sponsorship: As an event sponsor\, your company logo will be on all event materials\, and you will be recognized at the event\, and have a team for Trivia Night. Sponsorship is 35\,000 baht - please contact sheree@amchamthailand.com for more information.\n	Donate Directly: Visit the ATF website if you are unable to attend but would like to make a donation to the scholarship fund.\n\nAll donations go directly to scholarships\, with no money diverted for overheads. All participants\, sponsors\, and donors will receive an official charitable receipt for tax purposes.\n\n\n\nThank you to Mastercard and Tractus Asia for their generous sponsorship of the event.
X-ALT-DESC;FMTTYPE=text/html:AMCHAM is bringing our popular Trivia Nights\, this time in person and hosted by the AMCHAM Young Professionals Committee.<br />\n<br />\nTest your trivia knowledge in four rounds of questions and surprise challenges. Team up with friends or colleagues and compete for bragging rights against fellow AMCHAM members while supporting an important cause.<br />\n<br />\n100% of proceeds go to the ATF scholarship program\, which currently sends 60 high-achieving Thai students through university. Our students need this support more than ever in these challenging times - let&#39\;s help keep all of them in school!<br />\n&nbsp\;<br />\n<strong>AMERICAN CHAMBER OF COMMERCE IN THAILAND FOUNDATION (ATF)</strong><br />\nThe ATF has sent over 3\,000 deserving Thai students from disadvantaged backgrounds through university since 1976.<br />\n<br />\nIn 2020 and 2021\, we were unable to hold our major fundraising events that are the financial mainstay of the foundation. We are still raising funds to support our 60 hard-working students. Here are ways that you can help:\n<ul>\n	<li><u>Join Trivia Night!</u>&nbsp\;Each&nbsp\;team&#39\;s 1\,500 baht entry fee goes directly to the foundation.</li>\n	<li><u>Event Sponsorship</u>: As an event sponsor\, your company logo will be on all event materials\, and you will be recognized at the event\, and have a team for Trivia Night. Sponsorship is 35\,000 baht - please contact sheree@amchamthailand.com for more information.</li>\n	<li><u>Donate Directly:</u>&nbsp\;Visit the&nbsp\;<a href="http://www.amchamthailand.com/foundation">ATF website&nbsp\;</a>if you are unable to attend but would like to make a donation to the scholarship fund.</li>\n</ul>\nAll donations go directly to scholarships\, with no money diverted for overheads. All participants\, sponsors\, and donors will receive an official charitable receipt for tax purposes.<br />\n<br />\nThank you to Mastercard and Tractus Asia&nbsp\;for their generous sponsorship of the event.
LOCATION:Bourbon Street Restaurant & Oyster Bar\, Boutique Hotel BTS Ekkamai\, Sukhumvit Soi 63
UID:e.3314.2374
SEQUENCE:3
DTSTAMP:20260420T105049Z
URL:http://www.connect.amchamthailand.com/events/details/trivia-night-bourbon-street-2374
END:VEVENT

END:VCALENDAR
