BEGIN:VCALENDAR
VERSION:2.0
PRODID:-//ChamberMaster//Event Calendar 2.0//EN
METHOD:PUBLISH
X-PUBLISHED-TTL:P3D
REFRESH-INTERVAL:P3D
CALSCALE:GREGORIAN
BEGIN:VEVENT
DTSTART:20210303T010000Z
DTEND:20210305T030000Z
X-MICROSOFT-CDO-ALLDAYEVENT:FALSE
SUMMARY:U.S.-Thailand Cybersecurity and Data Protection Standards Workshop
DESCRIPTION:APPLY TO REGISTER NOW\n\n\n\nWith the second largest digital economy in Southeast Asia\, Thailand has made data protection and cybersecurity key priorities of its Thailand 4.0 policy to promote economic growth driven by technology and innovation. To advance these objectives\, Thailand is implementing new regulations for data protection and cybersecurity based on international standards.\nThe objectives of the Data Protection and Cybersecurity Standards Workshop are to:\n\n\n	Highlight innovations from industry-driven standards development\n	Share experiences in data protection and cybersecurity\n	Promote best practices for regulation and compliance\n	Feature data and cybersecurity technologies and services\n\nDiscussions will focus on the importance of global security and privacy standards to facilitate cooperation and limit potential barriers to trade and investment. Key participants will include Thai government officials from the Ministry of Digital Economy and Society\, the National Cyber Security Agency and Office of the Personal Data Protection Committee\, as well as leading U.S. government officials\, The Software Alliance\, the American Chamber of Commerce in Thailand\, and the American National Standards Institute.\n\n\n\nSee full agenda here
X-ALT-DESC;FMTTYPE=text/html:<p><span style="font-size:14px\;"><span style="font-family:arial\;"><strong><span style="color:#000080\;"><a href="https://customervoice.microsoft.com/Pages/ResponsePage.aspx?id=4vXEtEKIjkyR6eWoHqB7zcavHXmHYzVPprrfP6BnaCNUMVdZSkFPQTY2OUlBQUgyNkVYWlFYUFFLUi4u">APPLY TO REGISTER&nbsp\;NOW</a></span></strong></span></span><br />\n<br />\nWith the second largest digital economy in Southeast Asia\, Thailand has made data protection and cybersecurity key priorities of its Thailand 4.0&nbsp\;policy to promote economic growth driven by technology and innovation. To advance these objectives\, Thailand is implementing new regulations for data protection and cybersecurity based on international standards.</p>\nThe objectives of the Data Protection and Cybersecurity Standards Workshop are to:\n\n<ul>\n	<li>Highlight innovations from industry-driven standards development</li>\n	<li>Share experiences in data protection and cybersecurity</li>\n	<li>Promote best practices for regulation and compliance</li>\n	<li>Feature data and cybersecurity technologies and services</li>\n</ul>\nDiscussions will focus on the importance of global security and privacy standards to facilitate cooperation and limit potential barriers to trade and investment. Key participants will include Thai government officials from the Ministry of Digital Economy and Society\, the National Cyber Security Agency and Office of the Personal Data Protection Committee\, as well as leading U.S. government officials\, The Software Alliance\, the American Chamber of Commerce in Thailand\, and the American National Standards Institute.<br />\n<br />\n<a href="https://chambermaster.blob.core.windows.net/userfiles/UserFiles/chambers/3314/File/U.S.-ThailandCybersecurityDataProtectionWorkshopDraftAgenda_Feb16_internal.pdf">See full agenda here</a> &nbsp\;<br />\n<br />\n&nbsp\;
LOCATION:March 3-4 will be held in-person at the InterContinental Bangkok March 5 will be held online.
UID:e.3314.1832
SEQUENCE:3
DTSTAMP:20260422T042424Z
URL:http://www.connect.amchamthailand.com/events/details/u-s-thailand-cybersecurity-and-data-protection-standards-workshop-1832
END:VEVENT

END:VCALENDAR
