BEGIN:VCALENDAR
VERSION:2.0
PRODID:-//ChamberMaster//Event Calendar 2.0//EN
METHOD:PUBLISH
X-PUBLISHED-TTL:P3D
REFRESH-INTERVAL:P3D
CALSCALE:GREGORIAN
BEGIN:VEVENT
DTSTART:20190319T020000Z
DTEND:20190319T033000Z
X-MICROSOFT-CDO-ALLDAYEVENT:FALSE
SUMMARY:UCONN School of Business briefing
DESCRIPTION:By Invitation
X-ALT-DESC;FMTTYPE=text/html:By Invitation&nbsp\;
LOCATION:Philip Morris Offices
UID:e.3314.192
SEQUENCE:3
DTSTAMP:20260423T203305Z
URL:http://www.connect.amchamthailand.com/events/details/uconn-school-of-business-briefing-192
END:VEVENT

END:VCALENDAR
