BEGIN:VCALENDAR
VERSION:2.0
PRODID:-//ChamberMaster//Event Calendar 2.0//EN
METHOD:PUBLISH
X-PUBLISHED-TTL:P3D
REFRESH-INTERVAL:P3D
CALSCALE:GREGORIAN
BEGIN:VEVENT
DTSTART:20190103T030000Z
DTEND:20190103T043000Z
X-MICROSOFT-CDO-ALLDAYEVENT:FALSE
SUMMARY:University of North Carolina Wilmington briefing
DESCRIPTION:University of North Carolina Wilmington briefing - by invitation only
X-ALT-DESC;FMTTYPE=text/html:<span style="font-family:arial\,sans-serif\;"><span style="font-size:11.0pt\;">University of North Carolina Wilmington&nbsp\;</span></span>briefing - by invitation only
LOCATION:
UID:e.3314.184
SEQUENCE:3
DTSTAMP:20260424T000814Z
URL:http://www.connect.amchamthailand.com/events/details/university-of-north-carolina-wilmington-briefing-184
END:VEVENT

END:VCALENDAR
