BEGIN:VCALENDAR
VERSION:2.0
PRODID:-//ChamberMaster//Event Calendar 2.0//EN
METHOD:PUBLISH
X-PUBLISHED-TTL:P3D
REFRESH-INTERVAL:P3D
CALSCALE:GREGORIAN
BEGIN:VEVENT
DTSTART:20200103T033000Z
DTEND:20200102T170000Z
X-MICROSOFT-CDO-ALLDAYEVENT:FALSE
SUMMARY:University of North Carolina Wilmington briefing
DESCRIPTION:By Invitation
X-ALT-DESC;FMTTYPE=text/html:By Invitation&nbsp\;
LOCATION:
UID:e.3314.353
SEQUENCE:3
DTSTAMP:20260423T040053Z
URL:http://www.connect.amchamthailand.com/events/details/university-of-north-carolina-wilmington-briefing-353
END:VEVENT

END:VCALENDAR
