BEGIN:VCALENDAR
VERSION:2.0
PRODID:-//ChamberMaster//Event Calendar 2.0//EN
METHOD:PUBLISH
X-PUBLISHED-TTL:P3D
REFRESH-INTERVAL:P3D
CALSCALE:GREGORIAN
BEGIN:VEVENT
DTSTART:20190314T010000Z
DTEND:20190314T023000Z
X-MICROSOFT-CDO-ALLDAYEVENT:FALSE
SUMMARY:USC Marshall University Briefing
DESCRIPTION:By Invitation
X-ALT-DESC;FMTTYPE=text/html:By Invitation&nbsp\;
LOCATION:InterContinental Hotel
UID:e.3314.207
SEQUENCE:3
DTSTAMP:20260423T202904Z
URL:http://www.connect.amchamthailand.com/events/details/usc-marshall-university-briefing-207
END:VEVENT

END:VCALENDAR
