BEGIN:VCALENDAR
VERSION:2.0
PRODID:-//ChamberMaster//Event Calendar 2.0//EN
METHOD:PUBLISH
X-PUBLISHED-TTL:P3D
REFRESH-INTERVAL:P3D
CALSCALE:GREGORIAN
BEGIN:VEVENT
DTSTART:20220726T030000Z
DTEND:20220726T040000Z
X-MICROSOFT-CDO-ALLDAYEVENT:FALSE
SUMMARY:Virtual Membership Meeting with Deputy Director-General Kanitha Kungsawanich\, Department of Intellectual Property
DESCRIPTION:AMCHAM is delighted to welcome  Kanitha Kungsawanich\, Deputy Director-General\, Department of Intellectual Property to address the AMCHAM membership at our online Membership Meeting.\n\n\n\nProtecting Intellectual Property Rights (IPR) are crucial for Thailand for its effort to create conducive environment for foreign direct investment\, technology and knowledge transfer\, as well as the growth of the creative and digital economy. Since the importance of the digital economy has increased in a significantly faster rate due to Covid-19 pandemic\, the effective IPR protection for products and services in the digital and technological sectors are critical to foster creativity and innovations\, contributing to the growth of Thailand's digital and overall economy.\n\n\n\nPlease join the Legal Committee to welcome Kanitha Kungsawanich\, Deputy Director-General\, Department of Intellectual Property. Kanitha will provide remarks on the department's priorities on IPR protection\, its policies and strategies to protect IPR of digital and technological creations and innovations\, and finally\, technological advancements of the department to protect Intellectual Property in Thailand.\n\n\n\nAbout the speaker:\n\n\n\nKanitha has held positions in the Ministry of Commerce\, ranging from a position at the Permanent Mission of Thailand to the World Trade Organization\, Department of Trade Negotiations\, to a few positions in Department of Intellectual Property.\n\n\n\nKanitha holds Bachelor of Arts from Chulalongkorn University\, and Master of Public Policy from University of Michigan Ann Arbor\, and Master of Philosophy in International Relations from University of Cambridge.
X-ALT-DESC;FMTTYPE=text/html:AMCHAM is delighted to welcome&nbsp\; Kanitha Kungsawanich\,&nbsp\;Deputy Director-General\, Department of Intellectual Property to address the AMCHAM membership at our online Membership Meeting.<br />\n<br />\nProtecting Intellectual Property Rights (IPR) are crucial for Thailand for its effort to create conducive environment for foreign direct investment\, technology and knowledge transfer\, as well as the growth of the creative and digital economy. Since the importance of the digital economy has increased in a significantly faster rate due to Covid-19 pandemic\, the effective IPR protection for products and services in the digital and technological sectors are critical to foster creativity and innovations\, contributing to the growth of Thailand&rsquo\;s digital and overall economy.<br />\n<br />\nPlease join the Legal Committee to welcome Kanitha Kungsawanich\,&nbsp\;Deputy Director-General\, Department of Intellectual Property. Kanitha will provide remarks on the department&rsquo\;s priorities on IPR protection\, its policies and strategies to protect IPR of digital and technological creations and innovations\, and finally\, technological advancements of the department to protect Intellectual Property in Thailand.<br />\n<br />\n<strong>About the speaker:</strong><br />\n<br />\nKanitha has held positions in the Ministry of Commerce\, ranging from a position at the Permanent Mission of Thailand to the World Trade Organization\, Department of Trade Negotiations\, to a few positions in Department of Intellectual Property.<br />\n<br />\nKanitha holds Bachelor of Arts from Chulalongkorn University\, and Master of Public Policy from University of Michigan Ann Arbor\, and Master of Philosophy in International Relations from University of Cambridge.<span style="background:white\;"><span style="color:#444444\;"><span style="font-size:10.5pt\;"> </span></span></span>
LOCATION:Webinar
UID:e.3314.2235
SEQUENCE:3
DTSTAMP:20260420T201030Z
URL:http://www.connect.amchamthailand.com/events/details/virtual-membership-meeting-with-deputy-director-general-kanitha-kungsawanich-department-of-intellectual-property-2235
END:VEVENT

END:VCALENDAR
