BEGIN:VCALENDAR
VERSION:2.0
PRODID:-//ChamberMaster//Event Calendar 2.0//EN
METHOD:PUBLISH
X-PUBLISHED-TTL:P3D
REFRESH-INTERVAL:P3D
CALSCALE:GREGORIAN
BEGIN:VEVENT
DTSTART:20220427T030000Z
DTEND:20220427T163000Z
X-MICROSOFT-CDO-ALLDAYEVENT:FALSE
SUMMARY:Virtual Membership Meeting with Deputy Prime Minister and Minister of Energy: H.E. Supattanapong Punmeechaow
DESCRIPTION:AMCHAM is deeply honored to welcome H.E. Supattanapong Punmeechaow\, the Deputy Prime Minister and Minister of Energy\, to address the membership at our virtual membership meeting. Following his remarks the Thai Trade Representative\, M.L. Chayotid Kridakon\, and  Natta Bhachaiyud will also speak on issues relevant to the business community in Thailand. \n\n \n\nEase of doing business continues to be a critical issue for enhancing Thailand's competitiveness as a regional investment hub. The Deputy Prime Minister and his team have been at the forefront of government efforts to attract foreign direct investment (FDI) to support post-pandemic recovery and sustainable economic growth. Topics covered will include improving Thailand's ease of doing business\, the Ten for Thailand initiatives\, the focus on S-Curve industries\, and the country's net zero carbon aspiration as an opportunity to attract future investment.  \n\n \n\nPlease join our Board of Governors and general membership in welcoming our distinguished guests. \n\n \n\nKindly note that this meeting has changed to a video conference. Members will have an opportunity to ask questions after remarks.
X-ALT-DESC;FMTTYPE=text/html:<p>AMCHAM is deeply honored to welcome H.E. Supattanapong Punmeechaow\, the Deputy Prime Minister and Minister of Energy\, to address the membership at our virtual membership meeting. Following his remarks the Thai Trade Representative\, M.L. Chayotid Kridakon\, and&nbsp\; Natta Bhachaiyud will also speak on issues relevant to the business community in Thailand.&nbsp\;<br />\n&nbsp\;<br />\nEase of doing business continues to be a critical issue for enhancing Thailand&rsquo\;s competitiveness as a regional investment hub. The Deputy Prime Minister and his team have been at the forefront of government efforts to attract foreign direct investment (FDI) to support post-pandemic recovery and sustainable economic growth. Topics covered will include improving Thailand&rsquo\;s ease of doing business\, the Ten for Thailand initiatives\, the focus on S-Curve industries\, and the country&rsquo\;s net zero carbon aspiration as an opportunity to attract future investment.&nbsp\;&nbsp\;<br />\n&nbsp\;<br />\nPlease join our Board of Governors and general membership in welcoming our distinguished guests.&nbsp\;<br />\n&nbsp\;<br />\n<i>Kindly note that this meeting has changed to a video conference. Members will have an opportunity to ask questions after remarks.&nbsp\;</i></p>\n
LOCATION:Video Conference
UID:e.3314.2164
SEQUENCE:3
DTSTAMP:20260421T013038Z
URL:http://www.connect.amchamthailand.com/events/details/virtual-membership-meeting-with-deputy-prime-minister-and-minister-of-energy-h-e-supattanapong-punmeechaow-2164
END:VEVENT

END:VCALENDAR
