BEGIN:VCALENDAR
VERSION:2.0
PRODID:-//ChamberMaster//Event Calendar 2.0//EN
METHOD:PUBLISH
X-PUBLISHED-TTL:P3D
REFRESH-INTERVAL:P3D
CALSCALE:GREGORIAN
BEGIN:VEVENT
DTSTART:20221004T060000Z
DTEND:20221004T070000Z
X-MICROSOFT-CDO-ALLDAYEVENT:FALSE
SUMMARY:Virtual Membership Meeting with the Food and Drug Administration (FDA)
DESCRIPTION:AMCHAM is pleased to welcome Jiraratana Thesasilpa\, Food and Drug Technical Officer\, Senior Professional Level from the Food and Drug Administration (FDA) to speak with AMCHAM members at the Virtual Membership Meeting on October 4 at 1 pm.\n\n \n\nIn response to the pandemic\, the FDA has stepped up efforts to enhance the effectiveness of the FDA application and approval process\, particularly pharmaceutical\, medical devices\, and food products. In particular\, the recently enacted Ministry of Public Health Notification No. 341 B.E. 2565 regulating foods obtained from Genetically Modified Organisms (GMOs) has introduced additional responsibilities and requirements for food producers\, importers\, and exporters. \n\n \n\nJiraratana will provide insights on the Notification\, covering its requirements in detail\, the safety assessment body and its procedures\, punitive measures for non-compliance\, as well as impacts on food and agri-business operators.\n\n \n\nAbout the Speaker\n\nJiraratana has over 20 years of experience working at the Food and Drug Administration. At the Food Standard Section\, she initiated the Notification on Food Safety Control under the Food Act B.E. 2522. She also has been involved in setting the standards for labeling\, food packaging\, food additives\, nutrition\, and contaminants\, among others. Jiraratana holds a Bachelor of Science (Food and Nutrition) from Kasetsart University and Master of Science (Tropical Medicine) from Mahidol University. \n\n\n\nThank you to our sponsor\, Johnson & Johnson\, for their generous support of this event.
X-ALT-DESC;FMTTYPE=text/html:<span style="font-size:11.0pt\;">AMCHAM is pleased to welcome Jiraratana Thesasilpa\,&nbsp\;Food and Drug Technical Officer\, Senior Professional Level from the Food and Drug Administration (FDA) to speak with AMCHAM members at the Virtual Membership Meeting on October 4 at 1 pm.</span><br />\n&nbsp\;<br />\n<span style="font-size:11.0pt\;">In response to the pandemic\, the FDA has stepped up efforts to enhance the effectiveness of the FDA application and approval process\, particularly pharmaceutical\, medical devices\, and food products. In particular\, the recently enacted Ministry of Public Health Notification No. 341 B.E. 2565 regulating foods obtained from Genetically Modified Organisms (GMOs) has introduced additional responsibilities and requirements for food producers\, importers\, and exporters. </span><br />\n&nbsp\;<br />\n<span style="font-size:11.0pt\;">Jiraratana will provide insights on the Notification\, covering </span><span style="font-size:11.0pt\;">its </span><span style="font-size:11.0pt\;">requirements</span><span style="font-size:11.0pt\;"> in detail</span><span style="font-size:11.0pt\;">\, the safety assessment body and its procedures\, punitive measures for non-compliance\, as well as impacts on food and agri-business operators.</span><br />\n&nbsp\;<br />\n<strong><span style="font-size:11.0pt\;">About the Speaker</span></strong><br />\n<span style="font-size:11.0pt\;">Jiraratana has over 20 years of experience working at the Food and Drug Administration. At the Food Standard Section\, she initiated the Notification on Food Safety Control under the Food Act B.E. 2522. She also has been involved in setting </span><span style="font-size:11.0pt\;">the</span><span style="font-size:11.0pt\;"> standards for labeling</span><span style="font-size:11.0pt\;">\, </span><span style="font-size:11.0pt\;">food packaging</span><span style="font-size:11.0pt\;">\, food additives\, nutrition\, and contaminants\, among others. Jiraratana holds a Bachelor of Science (Food and Nutrition) from Kasetsart University and Master of Science (Tropical Medicine) from Mahidol University.&nbsp\;<br />\n<br />\nThank you to our sponsor\, Johnson &amp\; Johnson\, for their generous support of this event.</span>
LOCATION:Online Webinar
UID:e.3314.2291
SEQUENCE:3
DTSTAMP:20260420T142451Z
URL:http://www.connect.amchamthailand.com/events/details/virtual-membership-meeting-with-the-food-and-drug-administration-fda-2291
END:VEVENT

END:VCALENDAR
