BEGIN:VCALENDAR
VERSION:2.0
PRODID:-//ChamberMaster//Event Calendar 2.0//EN
METHOD:PUBLISH
X-PUBLISHED-TTL:P3D
REFRESH-INTERVAL:P3D
CALSCALE:GREGORIAN
BEGIN:VEVENT
DTSTART:20230322T023000Z
DTEND:20230322T033000Z
X-MICROSOFT-CDO-ALLDAYEVENT:FALSE
SUMMARY:Virtual Membership Meeting with the Deputy Secretary-General of TISI
DESCRIPTION:AMCHAM is delighted to welcome Ekanit Romyanon\, Deputy Secretary-General of the Thai Industrial Standards Institute\, Ministry of Industry of Thailand\, to address the AMCHAM membership at our online Membership Meeting. Thai Industrial Standards Institute (TISI) is the key agency in developing mandatory and voluntary Thai Industrial Standards as well as the International Organization for Standardization (ISO) and the International Electrotechnical Commission (IEC).\nJoin the Manufacturing Committee to welcome Ekanit Romyanon\, Deputy Secretary General\, Thai Industrial Standards Institute (TISI) who will provide an overview of TISI authorities on industrial standards initiation and implementation. Participants will also have opportunities to learn about regulations concerning TISI standard compliance as well as penalties for non-compliance.\n\n\n\nAbout the speaker:\n\nEkanit Romyanon is currently the Deputy Secretary-General of TISI\, Ministry of Industry. Prior to this position\, he served as Director at Office of the National Standardization Council\, Chairman of APEC Subcommittee for Standards and Conformance\, as well as Vice Chair of Pacific Accreditation Cooperation. With almost 20 years of experiences in the field\, he has been a guest speaker and trainer for ISO/IEC courses in Singapore\, Malaysia\, Korea\, and Japan. Mr. Ekanit holds a Bachelor of Engineering (Electrical) from Chulalongkorn University and a Master of Engineering Science (Electrical)\, The University of New South Wales\, Australia.
X-ALT-DESC;FMTTYPE=text/html:AMCHAM is delighted to welcome Ekanit Romyanon\, Deputy Secretary-General of the Thai Industrial Standards Institute\, Ministry of Industry of Thailand\, to address the AMCHAM membership at our online Membership Meeting. Thai Industrial Standards Institute (TISI) is the key agency in developing mandatory and voluntary Thai Industrial Standards as well as the International Organization for Standardization (ISO) and the International Electrotechnical Commission (IEC).\n<p>Join the Manufacturing Committee to welcome Ekanit Romyanon\, Deputy Secretary General\, Thai Industrial Standards Institute (TISI) who will provide an overview of TISI authorities on industrial standards initiation and implementation. Participants will also have opportunities to learn about regulations concerning TISI standard compliance as well as penalties for non-compliance.<br />\n<br />\n<strong>About the speaker:</strong></p>\n\n<p><strong>Ekanit Romyanon</strong> is currently the Deputy Secretary-General of TISI\, Ministry of Industry. Prior to this position\, he served&nbsp\;as Director at Office of the National Standardization Council\, Chairman of APEC Subcommittee for Standards and Conformance\, as well as Vice Chair of Pacific Accreditation Cooperation. With almost 20 years of experiences&nbsp\;in the field\, he has been a guest speaker and trainer for ISO/IEC courses in Singapore\, Malaysia\, Korea\, and Japan.&nbsp\;Mr. Ekanit holds a Bachelor of Engineering (Electrical) from Chulalongkorn University and a&nbsp\;Master of Engineering Science (Electrical)\, The University of New South Wales\, Australia.</p>\n
LOCATION:Webinar
UID:e.3314.2464
SEQUENCE:3
DTSTAMP:20260420T051750Z
URL:http://www.connect.amchamthailand.com/events/details/virtual-membership-meeting-with-tisi-2464
END:VEVENT

END:VCALENDAR
