BEGIN:VCALENDAR
VERSION:2.0
PRODID:-//ChamberMaster//Event Calendar 2.0//EN
METHOD:PUBLISH
X-PUBLISHED-TTL:P3D
REFRESH-INTERVAL:P3D
CALSCALE:GREGORIAN
BEGIN:VEVENT
DTSTART:20200819T080000Z
DTEND:20200819T090000Z
X-MICROSOFT-CDO-ALLDAYEVENT:FALSE
SUMMARY:Women In Hotels - Taking On The World
DESCRIPTION:REGISTER NOW\n\n\n\nReady. Set. Go. It's 2020 and despite a challenging global environment\, now more than ever is the time leadership is needed. It's time to step back and rethink how important human capital is to the hotel business and what critical role women play.\n\n\n\nThis thought-provoking virtual event featuring an all-female line-up of speakers from Asia\, Middle East and Europe is meant to give career women in hotels a voice in the hospitality world.\n\n\n\nIt's an anthology that crosses generational lines and intends to ask the hard questions\, provide insight and show the journey of women on a progressive path in hotels. We will look from the point of view of a student asking 'why should I want to work in hotels?' to a twenty-something figuring out a way up. We'll feature the perspectives of hotel owners\, general managers\, corporate leaders and a wide spectrum of experience and views.\n\n\n\nFor some women hotels are a just a short journey in their lives\, while for others it is a lifetime passionate pursuit. The Women in Hotels event is meant to empower thought\, mentorship and provide a spirit of entrepreneurship.\n\n\n\nSpeakers\n\n\n\n  Naureen Ahmed\, Director\, Marketing\, Research & Analysis\, Europe\, STR\n\n  Anne Arrowsmith\, Corporate General Manager\, 137 Pillars Hotels & Resorts\n\n  Rachel Davidson\, Cluster General Manager\, Hilton Sukhumvit Bangkok\n\n  Sunny Yu Grosic\, Head of Commercial Performance & Brand Activation\, JA Resorts & Hotels\n\n  Irene Hoek\, Vice President of Global Residential Development\, Rosewood Hotel Group\n\n  Cyndy Tan Jarabata\, President\, Tajara Leisure and Hospitality Group\n\n  Anchalika Kijkanakorn\, Managing Director and Founder\, AKARYN Hotel Group (AHG)\n\n  Rebecca Lee\, Vice President - Hotel Development\, Galaxy Entertainment Group\n\n  Maylea Palmqvist\, Student\n\n  Emma Yap\, Consultant\, Horwath HTL\n\n\n\nModerator\n\n  Sumi Soorian\, Business Development Director\, Delivering Asia Communications
X-ALT-DESC;FMTTYPE=text/html:<p><a href="https://us02web.zoom.us/webinar/register/WN_BqeUiJJwTJaB8riVLJBQ1w"><strong><span style="color:#000080\;">REGISTER NOW</span></strong></a><br />\n<br />\nReady. Set. Go. It&rsquo\;s 2020 and despite a challenging global environment\, now more than ever is the time leadership is needed. It&rsquo\;s time to step back and rethink how important human capital is to the hotel business and what critical role women play.<br style="box-sizing: border-box\;" />\n<br style="box-sizing: border-box\;" />\nThis thought-provoking virtual event featuring an all-female line-up of speakers from Asia\, Middle East and Europe is meant to give career women in hotels a voice in the hospitality world.<br style="box-sizing: border-box\;" />\n<br style="box-sizing: border-box\;" />\nIt&rsquo\;s an anthology that crosses generational lines and intends to ask the hard questions\, provide insight and show the journey of women on a progressive path in hotels. We will look from the point of view of a student asking &lsquo\;why should I want to work in hotels?&rsquo\; to a twenty-something figuring out a way up. We&rsquo\;ll feature the perspectives of hotel owners\, general managers\, corporate leaders and a wide spectrum of experience and views.<br style="box-sizing: border-box\;" />\n<br style="box-sizing: border-box\;" />\nFor some women hotels are a just a short journey in their lives\, while for others it is a lifetime passionate pursuit. The Women in Hotels event is meant to empower thought\, mentorship and provide a spirit of entrepreneurship.<br style="box-sizing: border-box\;" />\n<br style="box-sizing: border-box\;" />\nSpeakers<br style="box-sizing: border-box\;" />\n<br style="box-sizing: border-box\;" />\n&bull\; <a href="https://www.linkedin.com/in/naureen-ahmed-28253a35/?originalSubdomain=uk">Naureen Ahmed</a>\, Director\, Marketing\, Research &amp\; Analysis\, Europe\, STR<br style="box-sizing: border-box\;" />\n&bull\; <a href="https://www.linkedin.com/in/anne-arrowsmith-a756539/?originalSubdomain=th">Anne Arrowsmith</a>\, Corporate General Manager\, 137 Pillars Hotels &amp\; Resorts<br style="box-sizing: border-box\;" />\n&bull\; <a href="https://www.linkedin.com/in/rachel-davidson-1a90108/?originalSubdomain=jp">Rachel Davidson</a>\, Cluster General Manager\, Hilton Sukhumvit Bangkok<br style="box-sizing: border-box\;" />\n&bull\; <a href="https://www.linkedin.com/in/sunny-yu-grosic%E4%BA%8E%E8%8D%A3-1b031130/?originalSubdomain=ae">Sunny Yu Grosic</a>\, Head of Commercial Performance &amp\; Brand Activation\, JA Resorts &amp\; Hotels<br style="box-sizing: border-box\;" />\n&bull\; <a href="https://www.linkedin.com/in/irene-hoek-a2680010/?originalSubdomain=uk">Irene Hoek</a>\, Vice President of Global Residential Development\, Rosewood Hotel Group<br style="box-sizing: border-box\;" />\n&bull\; <a href="https://www.linkedin.com/in/cyndy-tan-jarabata-53504750/?originalSubdomain=ph">Cyndy Tan Jarabata</a>\, President\, Tajara Leisure and Hospitality Group<br style="box-sizing: border-box\;" />\n&bull\; <a href="https://www.linkedin.com/in/anchalika-kijkanakorn-b77273/?originalSubdomain=th">Anchalika Kijkanakorn</a>\, Managing Director and Founder\, AKARYN Hotel Group (AHG)<br style="box-sizing: border-box\;" />\n&bull\; <a href="https://www.linkedin.com/in/inheerebeccalee/?originalSubdomain=hk">Rebecca Lee</a>\, Vice President - Hotel Development\, Galaxy Entertainment Group<br style="box-sizing: border-box\;" />\n&bull\; Maylea Palmqvist\, Student<br style="box-sizing: border-box\;" />\n&bull\; <a href="https://www.linkedin.com/in/emmayaphs/?originalSubdomain=sg">Emma Yap</a>\, Consultant\, Horwath HTL<br style="box-sizing: border-box\;" />\n<br style="box-sizing: border-box\;" />\nModerator<br style="box-sizing: border-box\;" />\n&bull\; Sumi Soorian\, Business Development Director\, Delivering Asia Communications&nbsp\;</p>\n
LOCATION:Zoom Meeting
UID:e.3314.1669
SEQUENCE:3
DTSTAMP:20260422T163343Z
URL:http://www.connect.amchamthailand.com/events/details/women-in-hotels-taking-on-the-world-1669
END:VEVENT

END:VCALENDAR
