BEGIN:VCALENDAR
VERSION:2.0
PRODID:-//ChamberMaster//Event Calendar 2.0//EN
METHOD:PUBLISH
X-PUBLISHED-TTL:P3D
REFRESH-INTERVAL:P3D
CALSCALE:GREGORIAN
BEGIN:VEVENT
DTSTART:20230906T040000Z
DTEND:20230906T070000Z
X-MICROSOFT-CDO-ALLDAYEVENT:FALSE
SUMMARY:Women in Leadership (WIL) 2023 hosted by CanCham
DESCRIPTION:Please be advised that this function is a partner event with an external organizer. The registration link will send you away from the AMCHAM website to the website of the organizer.  Please be advised that this event organizer may have different data collection/privacy and event cancellation policies than AMCHAM Thailand.\n\nREGISTER NOW\n\nAMCHAM\, in cooperation with CanCham\, cordially invites you to Women in Leadership (WIL) 2023 event\, Now in its 6th year\, this annual event shines a spotlight on women of impact who have addressed difficult issues\, led direction shifts towards positive change\, and influenced their respective fields. \n\n\n\nWe will identify what drove them\; how they accomplished their goals with purpose while staying authentic\; and most importantly\, how this would shape the next decade of women in leadership.\n\n\n\nThis year\, we embark on a journey of inspiration\, enlightenment\, and empowerment\, as we delve into the theme of "Lead\, Love\, Live." These three powerful words are the essence of our event. Women leaders make the possibilities for innovation\, growth\, and positive change boundless. Love is the driving force that fuels their ambition\, propels them to overcome obstacles\, and nurtures growth and success. And lastly\, Live\, we can't deny that women leaders have the unique ability to juggle multiple responsibilities while maintaining their own sense of fulfillment and happiness.\n\n\n\nTogether\, we will explore the multifaceted dimensions of leadership and balance between leading with strength\, embracing love\, and living a life of purpose.\n\n\n\nSPEAKERS\n\n- Captain Mathusorn Lertpanich\, Deputy Director of Legislation Division\; The Office of Judge Advocate General\, Royal Thai Navy Headquarters\n\n- Dr. Karndee Leopairote\, Chief Foresight & Digital Asset Officer of DTGO Group of Companies\n\n- Dr. Katrin Luger\, Section Chief Transport Research for Asia Pacific UNESCAP
X-ALT-DESC;FMTTYPE=text/html:<p>Please be advised that this function is a partner event with an external organizer. The registration link will send you away from the AMCHAM website to the website of the organizer.&#8203\; Please be advised that this event organizer may have different data collection/privacy and event cancellation policies than AMCHAM Thailand.</p>\n\n<p><a href="https://bit.ly/WIL2023-LeadLoveLive"><span style="font-size: 16px\;"><span style="font-family: arial\;"><strong><span style="color: rgb(0\, 0\, 128)\;">REGISTER NOW</span></strong></span></span></a></p>\n\n<p>AMCHAM\, in cooperation with CanCham\, cordially invites you to&nbsp\;Women in Leadership (WIL) 2023 event\, Now in its 6th year\, this annual event shines a spotlight on women of impact who have addressed difficult issues\, led direction shifts towards positive change\, and influenced their respective fields.&nbsp\;<br />\n<br />\nWe will identify what drove them\; how they accomplished their goals with purpose while staying authentic\; and most importantly\, how this would shape the next decade of women in leadership.<br />\n<br />\nThis year\, we embark on a journey of inspiration\, enlightenment\, and empowerment\, as we delve into the theme of &quot\;Lead\, Love\, Live.&quot\; These three powerful words are the essence of our event. Women leaders make the possibilities for innovation\, growth\, and positive change boundless. Love is the driving force that fuels their ambition\, propels them to overcome obstacles\, and nurtures growth and success. And lastly\, Live\, we can&#39\;t deny that women leaders have the unique ability to juggle multiple responsibilities while maintaining their own sense of fulfillment and happiness.<br />\n<br />\nTogether\, we will explore the multifaceted dimensions of leadership and balance between leading with strength\, embracing love\, and living a life of purpose.<br />\n<br />\nSPEAKERS<br />\n- Captain Mathusorn Lertpanich\, Deputy Director of Legislation Division\; The Office of Judge Advocate General\, Royal Thai Navy Headquarters<br />\n- Dr. Karndee Leopairote\, Chief Foresight &amp\; Digital Asset Officer of DTGO Group of Companies<br />\n- Dr. Katrin Luger\, Section Chief Transport Research for Asia Pacific UNESCAP</p>\n
LOCATION:Siam Kempinski Bangkok Dresscode: Business Casual
UID:e.3314.2609
SEQUENCE:3
DTSTAMP:20260419T183417Z
URL:http://www.connect.amchamthailand.com/events/details/women-in-leadership-wil-2023-hosted-by-cancham-2609
END:VEVENT

END:VCALENDAR
