BEGIN:VCALENDAR
VERSION:2.0
PRODID:-//ChamberMaster//Event Calendar 2.0//EN
METHOD:PUBLISH
X-PUBLISHED-TTL:P3D
REFRESH-INTERVAL:P3D
CALSCALE:GREGORIAN
BEGIN:VEVENT
DTSTART:20200324T090000Z
DTEND:20200324T110000Z
X-MICROSOFT-CDO-ALLDAYEVENT:FALSE
SUMMARY:Women on Board (Postponed)
DESCRIPTION:This event has been postponed as a precautionary measure to support public health efforts to minimize the spread of COVID-19. When the rescheduled date is confirmed\, AMCHAM will update that information here.\n\n\n\nJoin us for the first "Women on Board" panel discussion in 2020\, featuring candid discussions with leading women executives about their experiences serving on non-profit or executive boards.\n\n \n\nOur speakers will share their personal career journey\, followed by an informal question and answer session\, led by AMCHAM Executive Director\, Heidi Gallant where we can explore topics such as their ingredients for success\; peers and mentors who have helped them along the way\; challenges to balancing volunteer work\, their business and family\; and advice they have for women about their experience.\n\n \n\nPlease join us for this special event which will be followed by our monthly social networking at Westin Grande Sukhumvit.\n\n \n\nAbout the Speakers:\n\nEmma Gregory Boudah is co-founder and owner of Spokes Jewelry\, a jewelry design house and manufacturer working with jewelry brands worldwide. A leader in the community of foreign entrepreneurs in Thailand\, Emma sits on the board of the Irish Chamber of Commerce. Emma holds a B.A. in Economics from Trinity College\, Dublin\, and is a Graduate Gemologist from the Gemological Institute of America. She also holds certifications in Jewelry Appraisal from the UK.\n\n\n\nChanita Tunsue is currently General Manager of International SOS.  She has over 20 years in the supply chain industry across various business sectors such asglobal retail brands\, foods\, grocery\, FMCG\, automotive\, and general merchandise.  Chanita holds a BA and Master's Degree in International Relations with Thammasat University\, n EMBA from Kellogg Business School\, Northwestern University (Sasin joint program) and finance for Non-Finance Certificate from Chulalongkorn University.  She has served in the past on the board of ECR\, TBA\, TNSC\, TAPA\, AUSCHAM.
X-ALT-DESC;FMTTYPE=text/html:<p><em style="box-sizing: border-box\; font-family: &quot\;open sans&quot\;\, sans-serif\; font-size: 14px\; color: rgb(0\, 0\, 128)\; font-weight: 700\;">This event has been postponed as a precautionary measure to support public health efforts to minimize the spread of COVID-19. When the rescheduled date is confirmed\, AMCHAM will update that information here.</em><br />\n<br />\nJoin us for the first &ldquo\;Women on Board&rdquo\; panel discussion in 2020\, featuring candid discussions with leading women executives about their experiences serving on non-profit or executive boards.<br trebuchet="" />\n&nbsp\;<br trebuchet="" />\nOur speakers will share their personal career journey\, followed by an informal question and answer session\, led by AMCHAM Executive Director\, Heidi Gallant where we can explore topics such as their ingredients for success\; peers and mentors who have helped them along the way\; challenges to balancing volunteer work\, their business and family\; and advice they have for women about their experience.<br trebuchet="" />\n&nbsp\;<br />\nPlease join us for this special event which will be followed by our&nbsp\;monthly social networking at Westin Grande Sukhumvit.<br trebuchet="" />\n&nbsp\;<br trebuchet="" />\nAbout the Speakers:</p>\n\n<p>Emma Gregory Boudah is co-founder and owner of Spokes Jewelry\, a jewelry design house and manufacturer working with jewelry brands worldwide. A leader in the community of foreign entrepreneurs in Thailand\, Emma sits on the board of the Irish Chamber of Commerce. Emma holds a B.A. in Economics from Trinity College\, Dublin\, and is a Graduate Gemologist from the Gemological Institute of America. She also holds certifications in Jewelry Appraisal from the UK.<br />\n<br />\nChanita Tunsue is currently General Manager&nbsp\;of International SOS.&nbsp\; She has over 20 years in the supply chain industry across various business sectors such asglobal retail&nbsp\;brands\, foods\, grocery\, FMCG\, automotive\, and general merchandise.&nbsp\; Chanita holds a BA and Master&#39\;s Degree in International Relations with Thammasat University\, n EMBA&nbsp\;from Kellogg&nbsp\;Business School\, Northwestern University (Sasin joint program) and finance for Non-Finance Certificate from Chulalongkorn University.&nbsp\; She has served in the past on the board of&nbsp\;ECR\, TBA\, TNSC\, TAPA\, AUSCHAM.</p>\n\n<p>&nbsp\;</p>\n
LOCATION:
UID:e.3314.1517
SEQUENCE:3
DTSTAMP:20260423T001156Z
URL:http://www.connect.amchamthailand.com/events/details/women-on-board-postponed-1517
END:VEVENT

END:VCALENDAR
