BEGIN:VCALENDAR
VERSION:2.0
PRODID:-//ChamberMaster//Event Calendar 2.0//EN
METHOD:PUBLISH
X-PUBLISHED-TTL:P3D
REFRESH-INTERVAL:P3D
CALSCALE:GREGORIAN
BEGIN:VEVENT
DTSTART:20200709T030000Z
DTEND:20200709T043000Z
X-MICROSOFT-CDO-ALLDAYEVENT:FALSE
SUMMARY:Young Professionals Committee Video Conference: Planning Meeting for The Second Half of 2020
DESCRIPTION:You are cordially invited and encouraged to attend the AMCHAM's Young Professional Committee's planning meeting for the second half of 2020.  Your input is wanted and needed. If you plan on attending\, please be sure to register online.
X-ALT-DESC;FMTTYPE=text/html:You are cordially invited and encouraged to attend the AMCHAM&#39\;s Young Professional Committee&#39\;s planning meeting for the second half of 2020.&nbsp\; Your input is wanted and needed.&nbsp\;If you plan on attending\, please be sure to register online.
LOCATION:Video Conference
UID:e.3314.1644
SEQUENCE:3
DTSTAMP:20260422T183309Z
URL:http://www.connect.amchamthailand.com/events/details/young-professionals-committee-video-conference-planning-meeting-for-the-second-half-of-2020-1644
END:VEVENT

END:VCALENDAR
