BEGIN:VCALENDAR
VERSION:2.0
PRODID:-//ChamberMaster//Event Calendar 2.0//EN
METHOD:PUBLISH
X-PUBLISHED-TTL:P3D
REFRESH-INTERVAL:P3D
CALSCALE:GREGORIAN
BEGIN:VEVENT
DTSTART:20201208T110000Z
DTEND:20201208T140000Z
X-MICROSOFT-CDO-ALLDAYEVENT:FALSE
SUMMARY:YPC Committee: Bounce Back Like A Boss!
DESCRIPTION:How have you been coping through the global pandemic? Have you seen every show on Netflix\, tried some new recipes\, or maybe tried to cut your own hair? The year 2020 did not go the way the AMCHAM YPC family expected and we are curious as to how people have been dealing with the changes. We would like to invite you to The Athenee Hotel to join C-suite executives representing Chevron\, Bank of America\, and Schaeffler Group\, to hear how you've been and to gather an understanding of what it takes to lead an organization through unprecedented times.\n\n\n\nJoin us on December 8 to explore the minds of Jeff Lehrmann\, Managing Director\, Chevron Thailand\; Ornkanya Pibuldham\, Managing Director and Chief Country Officer\, Bank of America\; and Micah Shepard\, President Automotive Aftermarket Asia-Pacific & President of Southeast Asia\, Schaeffler Group.\n\n\n\nThese business leaders will engage in a panel discussion to share how you can transition and adapt to risk while creating an opportunity for growth looking forward. This will be a highly interactive event and you will be given the opportunity to ask relevant questions to our leaders.\n\n \n\nAgenda\n\n \n\n6:00 Registration\n\n6:30 Opening Remarks \n\n6:40 Panel Discussion\n\n7:30 Q&A from the audience\n\n7:45 Lucky Draw\n\n8:00 Closing Remarks \nOur Speakers:\n\n\n	Ornkanya Pibuldham\, Managing Director and Chief Country Officer\, Bank of America\n	Jeff Lehrmann\, Managing Director\, Chevron Thailand\n	Micah Shepard\, President Automotive Aftermarket Asia-Pacific & President of Southeast Asia\, Schaeffler Group.
X-ALT-DESC;FMTTYPE=text/html:<div font-size:="" open="">How have you been coping through the global pandemic? Have you seen every show on Netflix\, tried some new recipes\, or maybe tried to cut your own hair? The year 2020 did not go the way the AMCHAM YPC family expected&nbsp\;and we are curious as to how people have been dealing with the changes. We would like to invite you to The Athenee Hotel to join C-suite executives representing Chevron\, Bank of America\, and Schaeffler Group\, to hear how you&#39\;ve been and to gather an understanding of what it takes to lead an organization through unprecedented times.<br />\n<br />\nJoin us on December 8&nbsp\;to explore the minds of Jeff Lehrmann\, Managing Director\, Chevron Thailand\;&nbsp\;Ornkanya Pibuldham\, Managing Director and Chief Country Officer\, Bank of America\;&nbsp\;and Micah Shepard\, President Automotive Aftermarket Asia-Pacific &amp\; President of Southeast Asia\, Schaeffler Group.<br />\n<br />\nThese business leaders will engage in a panel discussion to share how you can transition and adapt to risk while creating an opportunity for growth looking forward.&nbsp\;This will be a highly interactive event and you will be given the opportunity to ask relevant questions to our leaders.<br />\n&nbsp\;<br />\n<u>Agenda</u><br />\n&nbsp\;<br />\n6:00 Registration<br />\n6:30 Opening Remarks&nbsp\;<br />\n6:40&nbsp\;Panel Discussion<br />\n7:30 Q&amp\;A from the audience<br />\n7:45 Lucky Draw<br />\n8:00 Closing Remarks&nbsp\;\n<p>Our Speakers:</p>\n\n<ul>\n	<li font-size:="" open=""><a href="https://www.linkedin.com/in/mook-pibuldham-94672293/">Ornkanya Pibuldham</a>\, Managing Director and Chief Country Officer\, Bank of America</li>\n	<li font-size:="" open=""><a href="https://www.linkedin.com/in/jeff-lehrmann-1817a332/">Jeff Lehrmann</a>\, Managing Director\, Chevron Thailand</li>\n	<li font-size:="" open=""><a href="https://www.linkedin.com/in/mshepard81/">Micah Shepard</a>\, President Automotive Aftermarket Asia-Pacific &amp\; President of Southeast Asia\, Schaeffler Group.</li>\n</ul>\n</div>\n
LOCATION:Kandhavas Place\, The Athenee Hotel\, a Luxury Collection Hotel\, Bangkok 4th Floor Bangkok Wireless Road BTS Ploenchit
UID:e.3314.1769
SEQUENCE:3
DTSTAMP:20260422T080020Z
URL:http://www.connect.amchamthailand.com/events/details/ypc-committee-bounce-back-like-a-boss-1769
END:VEVENT

END:VCALENDAR
