BEGIN:VCALENDAR
VERSION:2.0
PRODID:-//ChamberMaster//Event Calendar 2.0//EN
METHOD:PUBLISH
X-PUBLISHED-TTL:P3D
REFRESH-INTERVAL:P3D
CALSCALE:GREGORIAN
BEGIN:VEVENT
DTSTART:20190228T120000Z
DTEND:20190228T140000Z
X-MICROSOFT-CDO-ALLDAYEVENT:FALSE
SUMMARY:YPC Networking & Executive Panel @ The Urban Office
DESCRIPTION:On 28 February (Thursday)\, AMCHAM Young Professionals welcome you back to a short panel about using mentors to develop your network and career.\n\n \n\nIt always helps to have good advice\, and here is a great chance to find it.  Meet a mix of foreign and local executives who are joining us to share insider career tips and stories on how they climbed the corporate ranks.  Guest are invited to bring questions for the panelists\, and business cards to introduce yourself afterwards.\n\n\n\nPANELISTS\n\nGeorge Hartel - Chief E-Commerce Officer @ Naraya\n\nKrittiyawadee Pongpanich - Director of Public Relations @ King Power Mahanakhon\n\nPathomporn Hannarkin - Country Human Resources Officer @ Citi Bank\n\nDavid Lawrence - Partner @ Pisut & Partners\n\n\n\nEVENT SPONSORS:\n\nThe Urban Office - Co-working space & Virtual offices\n\nHooters Bangkok\n\nAspire\n\nAunchalee Boutique\n\nBaan Aksorn\n\nHappy Fresh\n\nInstaroid\n\nLife Elixer\n\nNaraya\n\nPaleo Robbie\n\nTNS Tech\n\nChristina's Vietnam
X-ALT-DESC;FMTTYPE=text/html:On 28 February (Thursday)\, AMCHAM Young Professionals welcome you back to a short panel about using mentors to develop your network and career.<br />\n&nbsp\;<br />\nIt always helps to have good advice\, and here is a great chance to find it.&nbsp\; Meet a mix of foreign and local executives who are joining us to share insider career tips and stories on how they climbed the corporate ranks.&nbsp\; Guest are invited to bring questions for the panelists\, and business cards to introduce yourself afterwards.<br />\n<br />\n<strong>PANELISTS</strong><br />\nGeorge Hartel - Chief E-Commerce Officer&nbsp\;@ Naraya<br />\nKrittiyawadee Pongpanich - Director of Public Relations @ King Power Mahanakhon<br />\nPathomporn Hannarkin - Country Human Resources Officer&nbsp\;@ Citi Bank<br />\nDavid Lawrence - Partner&nbsp\;@ Pisut &amp\; Partners<br />\n<br />\n<span style="font-family: arial\, &quot\;helvetica neue&quot\;\, helvetica\, sans-serif\;"><strong>EVENT SPONSORS:</strong><br />\n<strong>The Urban Office - Co-working space &amp\; Virtual offices</strong><br />\nHooters Bangkok<br />\nAspire<br />\nAunchalee Boutique<br />\nBaan Aksorn<br />\nHappy Fresh<br />\nInstaroid<br />\nLife Elixer<br />\nNaraya<br />\nPaleo Robbie<br />\nTNS Tech<br />\nChristina&rsquo\;s Vietnam</span>
LOCATION:The Urban Office blends work professionalism\, hip lifestyle and urban living\, infusing lush greenery to transpire work productivity in a mindful environment that encourages creativity. The Urban Office\, Level 20\, Metropolis Building (BTS Phrom Phong\, Exit 3)
UID:e.3314.203
SEQUENCE:3
DTSTAMP:20260423T221324Z
URL:http://www.connect.amchamthailand.com/events/details/ypc-networking-executive-panel-the-urban-office-203
END:VEVENT

END:VCALENDAR
