BEGIN:VCALENDAR
VERSION:2.0
PRODID:-//ChamberMaster//Event Calendar 2.0//EN
METHOD:PUBLISH
X-PUBLISHED-TTL:P3D
REFRESH-INTERVAL:P3D
CALSCALE:GREGORIAN
BEGIN:VEVENT
DTSTART:20181025T120000Z
DTEND:20181025T140000Z
X-MICROSOFT-CDO-ALLDAYEVENT:FALSE
SUMMARY:YPC Networking Night: Hosted by Foreign Correspondents Club
DESCRIPTION:AMCHAM YPC Halloween Special!\n						\n\n						\n\n						Last month was amazing!  We would like to say a big thanks to our sponsors\, host\, and all of our guests that made it possible.\n\n						\n\n						This October\, you're in for a treat (or a trick)! This month\, we've teamed up with the historic Foreign Correspondents Club of Thailand for a themed YPC Halloween Special.\n\n						\n\n						\n\n						What to expect:\n\n						- Finger foods\, cash bar\, and networking\n\n						- Movie screening of short iconic Halloween horror films\n\n						- Light costume contest with prizes!\n					\n				\n			\n			\n		\n	\n\n \n\n\n\nAll proceeds will go to the American Chamber of Commerce in Thailand Foundation (ATF) - Adopt-a-School program.\n\nAMCHAM Young Professionals Committee (YPC) hosts events to raise funding for an annual Adopt-A-School project. All donations are used to build/upgrade upcountry schools. So when you join our events\, you are not only getting a great networking experience\, but also an opportunity to help underprivileged Thai youth across the country.
X-ALT-DESC;FMTTYPE=text/html:<p style="margin-top: 10px\; margin-bottom: 10px\; padding: 0px 10px\; font-size: 0.9em\; line-height: 1.5\; color: rgb(0\, 0\, 0)\; font-family: verdana\, arial\, sans-serif\, helvetica\;">&nbsp\;</p>\n\n<table border="0" cellpadding="0" cellspacing="0" style="width:100.0%\;border-collapse:collapse\;" width="100%">\n	<tbody>\n		<tr>\n			<td style="padding:6.75pt 0in 0in 0in\;vertical-align:top\;">\n			<table align="left" border="0" cellpadding="0" cellspacing="0" style="max-width:292.5pt\;border-collapse:collapse\;">\n				<tbody>\n					<tr>\n						<td style="padding:0in 13.5pt 6.75pt 13.5pt\;vertical-align:top\;">\n						<h1 align="center" style="margin-bottom:.0001pt\;text-align:center\;line-height:125%\;"><span style="color:black\;"><span style="font-family:arial\,sans-serif\;"><span style="font-size:25.5pt\;">AMCHAM YPC&nbsp\;Halloween Special!</span></span></span></h1>\n						<br />\n						<br />\n						<span style="color:#202020\;"><span style="font-family:helvetica\,sans-serif\;"><span style="font-size:13.5pt\;">Last month was amazing!&nbsp\; We would like to say a big thanks to our sponsors\, host\, and all of our guests that made it possible.<br />\n						<br />\n						This October\, you&#39\;re in for a treat (or a trick)! This month\, we&#39\;ve teamed up with the historic Foreign Correspondents Club of Thailand for a themed YPC Halloween Special.<br />\n						<br />\n						<br />\n						<strong><u><span style="font-family:helvetica\,sans-serif\;">What to expect:</span></u></strong></span><br />\n						- Finger foods\, cash bar\, and networking<br />\n						- Movie screening of short iconic Halloween horror films<br />\n						- Light costume contest with prizes!</span></span></td>\n					</tr>\n				</tbody>\n			</table>\n			</td>\n		</tr>\n	</tbody>\n</table>\n&nbsp\;\n\n<p><br />\n<span style="color: rgb(255\, 0\, 0)\; font-family: arial\; font-size: 14px\;">All proceeds will go to the American Chamber of Commerce in Thailand Foundation (ATF) - Adopt-a-School program.</span><br />\n<span style="color:#202020\;"><span style="font-family:helvetica\,sans-serif\;"><span style="font-size:10.5pt\;">AMCHAM Young Professionals Committee (YPC) hosts events to&nbsp\;raise funding for&nbsp\;an annual Adopt-A-School project. All donations are used to build/upgrade upcountry schools. So&nbsp\;when you join our events\, you are not only getting a great networking experience\, but also an opportunity to help underprivileged Thai youth across the country.</span></span></span></p>\n
LOCATION:Foreign Correspondents' Club of Thailand is located on the Pentouse ("P" Floor) of Maneeya Center\, connected to BTS Chidlom Station. For directions\, please check out this Google map. Contact info: The Foreign Correspondents' Club of Thailand (FCCT) Pentouse\, Maneeya Center 518/5 Ploenchit Road Patumwan\, Bangkok 10330 Tel.: 02-652-0580 E-mail: info@fccthai.com Web Site: http://www.fccthai.com
UID:e.3314.55
SEQUENCE:3
DTSTAMP:20260424T055529Z
URL:http://www.connect.amchamthailand.com/events/details/ypc-networking-night-hosted-by-foreign-correspondents-club-55
END:VEVENT

END:VCALENDAR
