BEGIN:VCALENDAR
VERSION:2.0
PRODID:-//ChamberMaster//Event Calendar 2.0//EN
METHOD:PUBLISH
X-PUBLISHED-TTL:P3D
REFRESH-INTERVAL:P3D
CALSCALE:GREGORIAN
BEGIN:VEVENT
DTSTART:20191127T100000Z
DTEND:20191127T140000Z
X-MICROSOFT-CDO-ALLDAYEVENT:FALSE
SUMMARY:YPC: Startup Pitch Night with AMCHAM
DESCRIPTION:Mark your calendars for November 27\, when AMCHAM's Young Professionals Committee will host a special entrepreneurs themed event!\n\n\n\nPitchers\n\n1.) VR4Empathy\n\n2.) Quiet Storm  \n\n3.) Wayfairer travel \n\n4.) Full Circle Filament\n\n5.) Foodie\n\n\n\nCome prepared for light networking\, shared experiences of starting a company\, and some unexpected prizes!\n\n \n\nFood sponsor: Pizza Mania\, Le Lapin \n\nLucky draw sponsors: Rembrant\, Minor\, Cali-Mex\, Hemmingways\, Virgin Active\n\n\n\nEntrance fee includes finger food\, one free drink and one lucky draw entry.  Additionally\, beverages will be available for purchase throughout the evening at special sale prices of 100 Baht for beer\, and 50 Baht for soft drinks and water.\n\n\n\nAll proceeds benefit the American Chamber of Commerce in Thailand Foundation (ATF) - Adopt-a-School program.
X-ALT-DESC;FMTTYPE=text/html:Mark your calendars for November 27\, when AMCHAM&#39\;s Young Professionals Committee will host a special entrepreneurs themed event!<br />\n<br />\nPitchers<br />\n1.) VR4Empathy<br />\n2.) Quiet Storm&nbsp\;&nbsp\;<br />\n3.) Wayfairer travel&nbsp\;<br />\n4.) Full Circle Filament<br />\n5.) Foodie<br />\n<br />\nCome prepared for light networking\, shared experiences of starting a company\, and some unexpected prizes!<br />\n&nbsp\;<br />\nFood sponsor: Pizza Mania\, Le Lapin&nbsp\;<br />\nLucky draw sponsors: Rembrant\, Minor\, Cali-Mex\, Hemmingways\, Virgin Active<br />\n<br />\nEntrance fee includes finger food\, one free drink and one lucky draw entry.&nbsp\; Additionally\, beverages will be available for purchase throughout the evening at special sale prices of 100 Baht for beer\, and 50 Baht for soft drinks and water.<br />\n<br />\nAll proceeds benefit the American Chamber of Commerce in Thailand Foundation (ATF) - Adopt-a-School program.
LOCATION:FYI Center 11th Floor\, 2525 Rama 4 Road\, Klong Toei\, Klong Toei District\, Bangkok 10110 Tel: 02-056-2222
UID:e.3314.405
SEQUENCE:3
DTSTAMP:20260423T073630Z
URL:http://www.connect.amchamthailand.com/events/details/ypc-startup-pitch-night-with-amcham-405
END:VEVENT

END:VCALENDAR
