BEGIN:VCALENDAR
VERSION:2.0
PRODID:-//ChamberMaster//Event Calendar 2.0//EN
METHOD:PUBLISH
X-PUBLISHED-TTL:P3D
REFRESH-INTERVAL:P3D
CALSCALE:GREGORIAN
BEGIN:VEVENT
DTSTART:20210820T110000Z
DTEND:20210820T130000Z
X-MICROSOFT-CDO-ALLDAYEVENT:FALSE
SUMMARY:Zoom & Brews: Craft Beverage Tasting
DESCRIPTION:Registration for this event is now closed.  Please keep your eyes out for Zoom & Stews\, Zoom & Spoons and more upcoming events in this series!\n\n\n\nZoom & Brews\, the first in a series of special events for members to use their event vouchers while enjoying a unique networking experience. Brian Bartusch\, Co-Founder of Beervana\, will lead attendees through a craft beverage tasting of six different fermented brews. Attendees will have an opportunity for further discussion in breakout rooms. Join us and crack open a cold one (a few times)!\n\n\n\nMembers may use one (1) event voucher for admission to this event. The event voucher covers a package of 6 craft beverages\, delivery to your home\, and virtual event admission. Companies are limited to a maximum of two (2) event vouchers for this event\, valid for registered company representatives only. Please correctly input your address and phone to ensure delivery. Beverages will be delivered chilled. Delivery outside of Bangkok is possible! \n\n\n\nPackage includes 6 full size beverages so you may wish to share the tasting experience with other members of your household.\n\n- Solid Gold Lager\n\n- Deschutes Mirror Pond Pale Ale\n\n- Deschutes Fresh Squeezed IPA\n\n- Rogue Batsquatch Hazy IPA\n\n- Founders Porter\n\n- Great Notion Baked Sour Ale\n\n\n\n**Please note that bookings for this event will close on August 16 to ensure delivery is completed by August 20.**\n\n\n\nSpaces for this event are limited. Please join the waiting list if you're unable to register right away. \n\n\n\nAbout the Speaker:\n\nBrian Bartusch is an American expat who has been living in Thailand for 15 years. As a co-founder of Beervana.Asia he has been focused on bringing the best craft beers from around the world back to share with the thirsty drinkers of Thailand. Brian is also a homebrewer and an internationally recognized beer judge. You can usually find him lifting a pint at one of the many fine craft establishments around Bangkok.
X-ALT-DESC;FMTTYPE=text/html:<br />\n<span style="color:#000080\;"><strong>Registration for this event is now closed.&nbsp\; Please keep your eyes out for </strong></span><strong><a href="https://connect.amchamthailand.com/events/details/zoom-stews-virtual-cooking-class-1978"><span style="color:#B22222\;">Zoom &amp\; Stews</span></a></strong><span style="color:#000080\;"><strong>\, </strong></span><strong><a href="https://connect.amchamthailand.com/events/details/zoom-spoons-cocktail-making-class-1979"><span style="color:#B22222\;">Zoom &amp\; Spoons</span></a></strong><span style="color:#000080\;"><strong> and more upcoming events in this series!</strong></span><br />\n<br />\n<em>Zoom &amp\; Brews</em>\,&nbsp\;the first in a series of special events for members to use their event vouchers while enjoying a unique networking experience. Brian Bartusch\, Co-Founder of Beervana\, will lead attendees through a craft beverage tasting of six different fermented brews. Attendees will have an opportunity for further discussion in breakout rooms. Join us and crack open a cold one (a few times)!<br />\n<br />\nMembers may use one (1) event voucher for admission to this event. The event voucher covers a package of 6 craft beverages\, delivery to your home\, and virtual event admission. Companies are limited to a maximum of two (2) event vouchers for this event\, valid for registered company representatives only. Please correctly input your address and phone to ensure delivery. Beverages will be&nbsp\;delivered chilled. Delivery outside of Bangkok is possible!&nbsp\;<br />\n<br />\nPackage includes 6 full size beverages so you may wish to share the tasting experience with other members of your household.<br />\n- Solid Gold Lager<br />\n- Deschutes Mirror Pond Pale Ale<br />\n- Deschutes Fresh Squeezed IPA<br />\n- Rogue Batsquatch Hazy IPA<br />\n- Founders Porter<br />\n- Great Notion Baked Sour Ale<br />\n<br />\n**Please note that bookings for this event will close on August 16 to ensure delivery is completed by August 20.**<br />\n<br />\nSpaces for this event are limited. Please join the waiting list if you&#39\;re unable to register right away.&nbsp\;<br />\n<br />\nAbout the Speaker:<br />\nBrian Bartusch is an American expat who has been living in Thailand for 15 years. As a co-founder of Beervana.Asia he has been focused on bringing the best craft beers from around the world back to share with the thirsty drinkers of Thailand. Brian is also a homebrewer and an internationally recognized beer judge. You can usually find him lifting a pint at one of the many fine craft establishments around Bangkok.
LOCATION:Virtual
UID:e.3314.1967
SEQUENCE:3
DTSTAMP:20260421T173936Z
URL:http://www.connect.amchamthailand.com/events/details/zoom-brews-craft-beverage-tasting-1967
END:VEVENT

END:VCALENDAR
