BEGIN:VCALENDAR
VERSION:2.0
PRODID:-//ChamberMaster//Event Calendar 2.0//EN
METHOD:PUBLISH
X-PUBLISHED-TTL:P3D
REFRESH-INTERVAL:P3D
CALSCALE:GREGORIAN
BEGIN:VEVENT
DTSTART:20210910T100000Z
DTEND:20210910T120000Z
X-MICROSOFT-CDO-ALLDAYEVENT:FALSE
SUMMARY:Zoom & Stews: Virtual Cooking Class
DESCRIPTION:Registration for this event is now closed.  Please keep your eyes out for Zoom & Spoons and more upcoming events in this series!\n\n\n\n\n\nOrdering too much take-away? Looking to refine your culinary skills? Introduce gourmet cuisine into your kitchen with a cooking class headed by a world-renowned chef! \n\n\n\nZoom & Stews is a virtual cooking class with the Founder of Blue Elephant\, Chef Nooror Somany Steppe. Ingredients will be shipped fresh to your door so that you can create two delectable dishes: Stir-fried Sea Bass with Hot Basil Sauce and Beef Steak with Black Pepper Sauce and Potato Gratin. Each dish easily serves 2 to 3 people so you have dinner for the whole family! (Or make a few meals for just yourself if you don't feel like sharing.)\n\n\n\nMembers may use two (2) event vouchers for admission to this event. The event vouchers cover a package of meal ingredients\, delivery to your home\, and virtual event admission. Companies are limited to a maximum of four (4) event vouchers for this event\, valid for registered company representatives only. Please correctly input your address and phone to ensure delivery. Registration will close on September 5 at 3:00pm to ensure delivery arrives at your home in a timely manner.\n\n\n\nOur apologies but we are unable to accommodate any meal substitutions for this event. \n\n\n\nAbout the Instructor:\n\nMaster Chef Nooror Somany Steppe - Born in Chachoengsao Thailand\, a province known for its abundance of favored tropical fruits\, Master Chef Nooror Somany Steppe has enjoyed a deep link with the culinary world from an early age. Her passion for Thai cooking was first inspired by her mother\, who passed down secret family recipes for homemade curry pastes. She subsequently studied French cuisine at the Jacobs Culinary Institute in Belgium.\n\n\n\nIn 1980\, she opened her first restaurant in Brussels\, followed by London\, Copenhagen\, France\, Lyon\, Malta Hilton\, Bangkok\, Mosco\, Jakarta\, and Phuket. Her business ventures include the Indian Restaurant La Porte des Indes in Brussels and London\, as well as Blue Spice Co.\, Ltd.\, a member of the Blue Elephant International Group\, which produces and exports Thai sauces\, curry pastes and powders to over 33 countries worldwide.
X-ALT-DESC;FMTTYPE=text/html:<p><span style="color: rgb(0\, 0\, 128)\;"><strong>Registration for this event is now closed.&nbsp\; Please keep your eyes out for</strong></span><span style="color: rgb(0\, 0\, 128)\;"><strong>&nbsp\;</strong></span><strong><a href="https://connect.amchamthailand.com/events/details/zoom-spoons-cocktail-making-class-1979"><span style="color: rgb(178\, 34\, 34)\;">Zoom &amp\; Spoons</span></a></strong><span style="color: rgb(0\, 0\, 128)\;"><strong>&nbsp\;and more upcoming events in this series!</strong></span><br>\n<br>\n<br>\nOrdering too much take-away? Looking to refine your culinary skills?&nbsp\;Introduce gourmet&nbsp\;cuisine into your kitchen with a cooking class headed by a world-renowned chef!&nbsp\;<br>\n<br>\nZoom &amp\; Stews is a virtual cooking class with the Founder of Blue Elephant\, Chef Nooror Somany Steppe. Ingredients will be shipped fresh to your door so that you can create two delectable dishes: Stir-fried Sea Bass with Hot Basil Sauce and Beef Steak with Black Pepper Sauce and Potato Gratin. Each dish easily serves 2 to 3 people so you have dinner for the whole family! (Or make a few meals for just yourself if you don't feel like sharing.)<br>\n<br>\nMembers may use two&nbsp\;(2) event vouchers for admission to this event. The event vouchers cover&nbsp\;a package of meal ingredients\, delivery to your home\, and virtual event admission. Companies are limited to a maximum of four&nbsp\;(4) event vouchers for this event\, valid for registered company representatives only. Please correctly input your address and phone to ensure delivery. Registration will close on September 5 at 3:00pm&nbsp\;to ensure delivery arrives at your home in a timely manner.<br>\n<br>\nOur apologies but we are unable to accommodate&nbsp\;any meal substitutions for this event.&nbsp\;<br>\n<br>\n<strong>About the Instructor:</strong></p>\n\n<p><a href="https://www.blueelephant.com/chef-nooror-2/">Master Chef Nooror Somany Steppe</a> -&nbsp\;Born in Chachoengsao Thailand\, a province known for its abundance of favored tropical fruits\, Master Chef Nooror Somany Steppe has enjoyed a deep link with the culinary world from an early age. Her passion for Thai cooking was first inspired by her mother\, who passed down&nbsp\;secret family recipes for homemade curry pastes. She subsequently studied French cuisine at the Jacobs Culinary Institute in Belgium.<br>\n<br>\nIn 1980\, she opened her first restaurant in Brussels\, followed by London\, Copenhagen\, France\, Lyon\, Malta Hilton\, Bangkok\, Mosco\, Jakarta\, and Phuket. Her business ventures include the Indian Restaurant La Porte des Indes in Brussels and London\, as well as&nbsp\;Blue Spice Co.\, Ltd.\, a member of the Blue Elephant International Group\, which produces and exports&nbsp\;Thai sauces\, curry pastes and powders to over 33 countries worldwide.&nbsp\;</p>\n
LOCATION:Video Conference
UID:e.3314.1978
SEQUENCE:3
DTSTAMP:20260421T155430Z
URL:http://www.connect.amchamthailand.com/events/details/zoom-stews-virtual-cooking-class-1978
END:VEVENT

END:VCALENDAR
